BEGIN:VCALENDAR
VERSION:2.0
PRODID:-//pretix//DRK_MSP_pretix//
BEGIN:VTIMEZONE
TZID:Europe/Berlin
BEGIN:STANDARD
DTSTART:20001029T040000
RRULE:FREQ=YEARLY;BYDAY=-1SU;BYMONTH=10
TZNAME:CET
TZOFFSETFROM:+0200
TZOFFSETTO:+0100
END:STANDARD
BEGIN:DAYLIGHT
DTSTART:20000326T030000
RRULE:FREQ=YEARLY;BYDAY=-1SU;BYMONTH=3
TZNAME:CEST
TZOFFSETFROM:+0100
TZOFFSETTO:+0200
END:DAYLIGHT
END:VTIMEZONE
BEGIN:VEVENT
UID:pretix-wasserwacht-einzel26-326@schwimmen.drk-msp.de
DTSTART;TZID=Europe/Berlin:20260731T101500
DTEND;TZID=Europe/Berlin:20260731T110000
DESCRIPTION:Tickets: https://schwimmen.drk-msp.de/einzel26/326/\nVeranstalt
 er: DRK Wasserwacht
DTSTAMP:20260423T110204Z
LOCATION:Badeanstalt "Glambecker See"\, Adolf-Friedrich-Straße 11\, 17235 
 Neustrelitz
SUMMARY:Neustrelitz - Einzelunterricht
END:VEVENT
END:VCALENDAR
