BEGIN:VCALENDAR
VERSION:2.0
PRODID:-//pretix//DRK_MSP_pretix//
BEGIN:VTIMEZONE
TZID:Europe/Berlin
BEGIN:STANDARD
DTSTART:20001029T040000
RRULE:FREQ=YEARLY;BYDAY=-1SU;BYMONTH=10
TZNAME:CET
TZOFFSETFROM:+0200
TZOFFSETTO:+0100
END:STANDARD
BEGIN:DAYLIGHT
DTSTART:20000326T030000
RRULE:FREQ=YEARLY;BYDAY=-1SU;BYMONTH=3
TZNAME:CEST
TZOFFSETFROM:+0100
TZOFFSETTO:+0200
END:DAYLIGHT
END:VTIMEZONE
BEGIN:VEVENT
UID:pretix-wasserwacht-einzel26-337@schwimmen.drk-msp.de
DTSTART;TZID=Europe/Berlin:20260810T131500
DTEND;TZID=Europe/Berlin:20260810T140000
DESCRIPTION:Tickets: https://schwimmen.drk-msp.de/einzel26/337/\nVeranstalt
 er: DRK Wasserwacht
DTSTAMP:20260423T130934Z
LOCATION:Strand Weißer See\, 17255 Wesenberg
SUMMARY:Wesenberg - Einzelunterricht
END:VEVENT
END:VCALENDAR
